BEGIN:VCALENDAR
VERSION:2.0
PRODID:-//wp-events-plugin.com//7.2.3.1//EN
TZID:America/Detroit
X-WR-TIMEZONE:America/Detroit
BEGIN:VEVENT
UID:33@amyloidosis.org
DTSTART;TZID=America/Chicago:20260506T180000
DTEND;TZID=America/Chicago:20260506T184500
DTSTAMP:20260421T154108Z
URL:https://amyloidosis.org/events/emerging-roles-of-ttr-in-attr-cm-and-yo
 ur-overall-health/
SUMMARY:Emerging Roles of TTR in ATTR-CM and Your Overall Health
DESCRIPTION:Webinar Session: Wednesday\, May 6th at 6 PM (ET) Zoom Meeting\
 n\n(These sessions will not be recorded due to patient involvement and HIP
 AA laws)\n\nTo Register HERE\nEmerging Roles of TTR in ATTR-CM and Your O
 verall Health\n\n\n\nWhat is transthyretin (TTR) and why does it matter so
  much in amyloidosis? This session breaks down the role of TTR in the body
 \, how it becomes unstable\, and what leads to amyloid buildup.\n\n\n\n\nS
 peaker:  Sarah Paciulli is a certified family nurse practitioner who foun
 ded VCU Health’s cardiology navigator program and leads transitional car
 e for heart failure and myocardial infarction patients. She specializes in
  cardiac amyloidosis\, contributes to clinical research and state advisory
  efforts\, and has received multiple awards for clinical excellence.\n\n\n
 &nbsp\;\n\n
END:VEVENT
BEGIN:VTIMEZONE
TZID:America/Chicago
X-LIC-LOCATION:America/Chicago
BEGIN:DAYLIGHT
DTSTART:20260308T030000
TZOFFSETFROM:-0600
TZOFFSETTO:-0500
TZNAME:CDT
END:DAYLIGHT
END:VTIMEZONE
END:VCALENDAR