BEGIN:VCALENDAR
VERSION:2.0
PRODID:-//wp-events-plugin.com//7.2.3.1//EN
TZID:America/Detroit
X-WR-TIMEZONE:America/Detroit
BEGIN:VEVENT
UID:32@amyloidosis.org
DTSTART;TZID=America/Chicago:20260429T180000
DTEND;TZID=America/Chicago:20260429T184500
DTSTAMP:20260421T153853Z
URL:https://amyloidosis.org/events/attr-cm-how-do-i-know-my-treatment-is-w
 orking/
SUMMARY:ATTR-CM how do I know my treatment is working?
DESCRIPTION:Webinar Session: Wednesday\, April 29th at 6 PM (ET) Zoom Meeti
 ng\n\n(These sessions will not be recorded due to patient involvement and 
 HIPAA laws)\n\nTo Register HERE\nATTR-CM how do I know my treatment is wo
 rking?\n\n\n\nWondering if your ATTR-CM treatment is truly working? Learn 
 how to track meaningful signs of progress\, what tests and symptoms matter
  most\, and how to partner with your care team. Walk away with practical t
 ools to assess your response and make confident\, informed decisions about
  your care.\n\n\n\n\nSpeaker: Rebecca R. Hung\, M.D.\, Ph.D.\, is an assis
 tant professor of clinical medicine in the Division of Cardiovascular Medi
 cine at Vanderbilt University Medical Center.\n\n\n&nbsp\;\n\n
END:VEVENT
BEGIN:VTIMEZONE
TZID:America/Chicago
X-LIC-LOCATION:America/Chicago
BEGIN:DAYLIGHT
DTSTART:20260308T030000
TZOFFSETFROM:-0600
TZOFFSETTO:-0500
TZNAME:CDT
END:DAYLIGHT
END:VTIMEZONE
END:VCALENDAR